OziExplorer Map Data File Version 2.2
ivankovskoye.jpg
ivankovskoye.jpg
1 ,Map Code,
WGS 84,, 0.0000, 0.0000,WGS 84
Reserved 1
Reserved 2
Magnetic Variation,,,E
Map Projection,Mercator,PolyCal,No,AutoCalOnly,No,BSBUseWPX,No
Point01,xy, 0, 0,in, deg, 56,52.37984,N, 36,31.11328,E, grid, , , ,N
Point02,xy, 3584, 3584,in, deg, 56,32.11555,N, 37, 8.02734,E, grid, , , ,N
Point03,xy, 0, 3584,in, deg, 56,32.11555,N, 36,31.11328,E, grid, , , ,N
Point04,xy, 3584, 0,in, deg, 56,52.37984,N, 37, 8.02734,E, grid, , , ,N
Point05,xy, 1792, 1792,in, deg, 56,42.27036,N, 36,49.57031,E, grid, , , ,N
Point06,xy, 1792, 0,in, deg, 56,52.37984,N, 36,49.57031,E, grid, , , ,N
Point07,xy, 0, 1792,in, deg, 56,42.27036,N, 36,31.11328,E, grid, , , ,N
Point08,xy, 3584, 1792,in, deg, 56,42.27036,N, 37, 8.02734,E, grid, , , ,N
Point09,xy, 1792, 3584,in, deg, 56,32.11555,N, 36,49.57031,E, grid, , , ,N
Point10,xy, , ,in, deg, , ,N, , ,W, grid, , , ,N
Point11,xy, , ,in, deg, , ,N, , ,W, grid, , , ,N
Point12,xy, , ,in, deg, , ,N, , ,W, grid, , , ,N
Point13,xy, , ,in, deg, , ,N, , ,W, grid, , , ,N
Point14,xy, , ,in, deg, , ,N, , ,W, grid, , , ,N
Point15,xy, , ,in, deg, , ,N, , ,W, grid, , , ,N
Point16,xy, , ,in, deg, , ,N, , ,W, grid, , , ,N
Point17,xy, , ,in, deg, , ,N, , ,W, grid, , , ,N
Point18,xy, , ,in, deg, , ,N, , ,W, grid, , , ,N
Point19,xy, , ,in, deg, , ,N, , ,W, grid, , , ,N
Point20,xy, , ,in, deg, , ,N, , ,W, grid, , , ,N
Point21,xy, , ,in, deg, , ,N, , ,W, grid, , , ,N
Point22,xy, , ,in, deg, , ,N, , ,W, grid, , , ,N
Point23,xy, , ,in, deg, , ,N, , ,W, grid, , , ,N
Point24,xy, , ,in, deg, , ,N, , ,W, grid, , , ,N
Point25,xy, , ,in, deg, , ,N, , ,W, grid, , , ,N
Point26,xy, , ,in, deg, , ,N, , ,W, grid, , , ,N
Point27,xy, , ,in, deg, , ,N, , ,W, grid, , , ,N
Point28,xy, , ,in, deg, , ,N, , ,W, grid, , , ,N
Point29,xy, , ,in, deg, , ,N, , ,W, grid, , , ,N
Point30,xy, , ,in, deg, , ,N, , ,W, grid, , , ,N
Projection Setup,,,,,,,,,,
Map Feature = MF ; Map Comment = MC These follow if they exist
Track File = TF These follow if they exist
Moving Map Parameters = MM? These follow if they exist
MM0,No
MMPNUM,4
MMPXY,1,0,0
MMPXY,2,3584,0
MMPXY,3,3584,3584
MMPXY,4,0,3584
MMPLL,1, 36.518555, 56.872996
MMPLL,2, 37.133789, 56.872996
MMPLL,3, 37.133789, 56.535258
MMPLL,4, 36.518555, 56.535258
MM1B,10.507616
LL Grid Setup
LLGRID,No,No Grid,Yes,255,16711680,0,No Labels,0,16777215,7,1,Yes,x
Other Grid Setup
GRGRID,No,No Grid,Yes,255,16711680,No Labels,0,16777215,8,1,Yes,No,No,x
MOP,Map Open Position,0,0
IWH,Map Image Width/Height,3584,3584
